BEGIN:VCALENDAR
VERSION:2.0
PRODID:-//hacksw/handcal//NONSGML v1.0//EN
BEGIN:VEVENT
SUMMARY:T6 -12 ans - Grenoble
UID:e268c3d0-dbec-4194-ac26-e18f6e96b7ae
DTSTART:20260529T220000Z
DTEND:20260530T220000Z
LOCATION:Localisation   
CATEGORIES:Sportif
STATUS:
URL;VALUE=URI:https://www.grenoble-hockey.com/evenements/2026/05/30/t6-12-ans-grenoble-2306006
END:VEVENT
END:VCALENDAR
