BEGIN:VCALENDAR
VERSION:2.0
PRODID:-//hacksw/handcal//NONSGML v1.0//EN
BEGIN:VEVENT
SUMMARY:T6 -14 ans - Grenoble
UID:6b056e07-0d25-4bff-b703-b19c4115d5b6
DTSTART:20260424T220000Z
DTEND:20260425T220000Z
LOCATION:Localisation FC Lyon Hockey 69300 caluire
CATEGORIES:Sportif
STATUS:
URL;VALUE=URI:https://www.grenoble-hockey.com/evenements/2026/04/25/t6-14-ans-grenoble-2306112
END:VEVENT
END:VCALENDAR
